BEGIN:VCALENDAR
VERSION:2.0
PRODID:-//wp-events-plugin.com//7.2.3.1//EN
TZID:Europe/Berlin
X-WR-TIMEZONE:Europe/Berlin
BEGIN:VEVENT
UID:340@rsc-rosenheim.de
DTSTART;TZID=Europe/Berlin;VALUE=DATE:20241214
DTEND;TZID=Europe/Berlin;VALUE=DATE:20241215
DTSTAMP:20231218T173226Z
URL:https://rsc-rosenheim.de/events/weihnachtsfeier-3/
SUMMARY:Weihnachtsfeier
DESCRIPTION:
CATEGORIES:Öffentlich
END:VEVENT
BEGIN:VTIMEZONE
TZID:Europe/Berlin
X-LIC-LOCATION:Europe/Berlin
BEGIN:STANDARD
DTSTART:20241027T020000
TZOFFSETFROM:+0200
TZOFFSETTO:+0100
TZNAME:CET
END:STANDARD
END:VTIMEZONE
END:VCALENDAR