BEGIN:VCALENDAR
VERSION:2.0
PRODID:-//wp-events-plugin.com//7.2.3.1//EN
TZID:Europe/Berlin
X-WR-TIMEZONE:Europe/Berlin
BEGIN:VEVENT
UID:73@rsc-rosenheim.de
DTSTART;TZID=Europe/Berlin;VALUE=DATE:20221119
DTEND;TZID=Europe/Berlin;VALUE=DATE:20221120
DTSTAMP:20220407T194328Z
URL:https://rsc-rosenheim.de/events/arbeitsdienst-bootshalle-winterfertig-
 machen/
SUMMARY:Arbeitsdienst: Bootshalle winterfertig machen
DESCRIPTION:
CATEGORIES:Öffentlich
END:VEVENT
BEGIN:VTIMEZONE
TZID:Europe/Berlin
X-LIC-LOCATION:Europe/Berlin
BEGIN:STANDARD
DTSTART:20221030T020000
TZOFFSETFROM:+0200
TZOFFSETTO:+0100
TZNAME:CET
END:STANDARD
END:VTIMEZONE
END:VCALENDAR